BEGIN:VCALENDAR
VERSION:2.0
PRODID:-//IES 28 &ndash; Olga Cossettini - ECPv6.15.20//NONSGML v1.0//EN
CALSCALE:GREGORIAN
METHOD:PUBLISH
X-ORIGINAL-URL:https://iesoc.edu.ar
X-WR-CALDESC:Eventos para IES 28 &ndash; Olga Cossettini
REFRESH-INTERVAL;VALUE=DURATION:PT1H
X-Robots-Tag:noindex
X-PUBLISHED-TTL:PT1H
BEGIN:VTIMEZONE
TZID:America/Argentina/Buenos_Aires
BEGIN:STANDARD
TZOFFSETFROM:-0300
TZOFFSETTO:-0300
TZNAME:-03
DTSTART:20210101T000000
END:STANDARD
END:VTIMEZONE
BEGIN:VEVENT
DTSTART;TZID=America/Argentina/Buenos_Aires:20220321T183000
DTEND;TZID=America/Argentina/Buenos_Aires:20220321T213000
DTSTAMP:20260423T050308
CREATED:20250722T181431Z
LAST-MODIFIED:20250722T181737Z
UID:11385-1647887400-1647898200@iesoc.edu.ar
SUMMARY:Pedagogías Clandestinas – Edición especial 2022
DESCRIPTION:Capacitación gratuita para docentes\, desarrollado en el marco de la Red Provincial de Formación Continua de la Provincia de Santa Fe. \n\n\n\nEl curso inicia el 21 de marzo\, y se desarrollará en un lapso de 5 semanas (desde el 21/03 al 18/04)\, con 4 módulos a cursar en el campus virtual del IES Nº 28 “Olga Cossettini”\, 3 clases en vivo OBLIGATORIAS través de la plataforma de videoconferencia Google Meet y una evaluación integradora. \n\n\n\nDOCENTES A CARGO: \n\n\n\nMaría Fernanda Foresi\, Ana España\, Gustavo Almirón y Lucrecia Álvarez. \n\n\n\nCURSO GRATUITO. EXCLUSIVO PARA DOCENTES. 40 hs.\, con Evaluación. \n\n\n\nCUPO MÁXIMO: 30 cursantes. \n\n\n\nINICIO: 21 de marzo\, a las 18:30 hs. \n\n\n\n Inscripción \n\n\n\nSe extenderán certificados\, según la normativa vigente (Decreto Nº 3029/12)\, valorados por la Junta de Escalafonamiento Docente de la Provincia de Santa Fe\, a todos los cursantes que cumplan con el 75% de asistencia y el trabajo final aprobado.
URL:https://iesoc.edu.ar/evento/pedagogias-clandestinas-edicion-especial-2022/
LOCATION:Campus virtual
CATEGORIES:Curso,Formación Virtual
ATTACH;FMTTYPE=image/jpeg:https://iesoc.edu.ar/wp-content/uploads/2022/03/2022-Edicion-Especial.jpg
END:VEVENT
END:VCALENDAR