BEGIN:VCALENDAR
VERSION:2.0
PRODID:-//IES 28 &ndash; Olga Cossettini - ECPv6.15.20//NONSGML v1.0//EN
CALSCALE:GREGORIAN
METHOD:PUBLISH
X-WR-CALNAME:IES 28 &ndash; Olga Cossettini
X-ORIGINAL-URL:https://iesoc.edu.ar
X-WR-CALDESC:Eventos para IES 28 &ndash; Olga Cossettini
REFRESH-INTERVAL;VALUE=DURATION:PT1H
X-Robots-Tag:noindex
X-PUBLISHED-TTL:PT1H
BEGIN:VTIMEZONE
TZID:America/Argentina/Buenos_Aires
BEGIN:STANDARD
TZOFFSETFROM:-0300
TZOFFSETTO:-0300
TZNAME:-03
DTSTART:20210101T000000
END:STANDARD
END:VTIMEZONE
BEGIN:VEVENT
DTSTART;TZID=America/Argentina/Buenos_Aires:20220902T000000
DTEND;TZID=America/Argentina/Buenos_Aires:20220902T235959
DTSTAMP:20260422T211659
CREATED:20250721T232007Z
LAST-MODIFIED:20250721T232009Z
UID:11368-1662076800-1662163199@iesoc.edu.ar
SUMMARY:El parque de la Independencia
DESCRIPTION:ACTIVIDAD NO ARANCELADAModalidad: híbrido. Dos actividades presenciales obligatorias\, comunicación y publicación de materiales de lectura e información mediante la plataforma. \n\n\n\nDestinatarios/as:● Estudiantes de diferentes carreras del IES Nº 28● Egresados/as del Ies Nº 28● Estudiantes de la escuela de Museología● Egresados/as de la escuela de Museología● Docentes del IES Nº 28 \n\n\n\nDescripción de la propuesta:Conocer la historia de nuestra ciudad\, las anécdotas\, mitos y leyendas en torno a lugares que recorremos en nuestra vida cotidiana es otra forma de preguntarnos por el pasado\, de pensarlo y entenderlo. Asimismo\, estas formas poco convencionalesnos pueden servir de herramientas pedagógicas para utilizar en el desarrollo de las clases. \n\n\n\nActividades presenciales:● Viernes 02/09\, 10 hs: Conversatorio sobre la historia del Parque de la Independencia coordinado por el Dr Diego Roldán – Sede IES Nº 28 Sarmiento 2903.● Martes 06/09\, 11 hs:“Parque Explorado” actividad a cargo del departamento de educación del Museo de la Ciudad «Wladimir Mikielievich» Bv. Oroño 2361. \n\n\n\nPropósitos:➔ Contribuir a la “educación” de la mirada y de la observación del espacio\, entendiéndolo como una fuente histórica a analizar.➔ Potenciar y reflexionar sobre la incorporación de nuevos formatos didácticos pedagógicos para la enseñanza de la historia. \n\n\n\nContenidos:● El parque Independencia: su historia y su presente.● Las salidas didácticas como oportunidad de construir propuestas pedagógicas de alto impacto en el estudiantado. \n\n\n\nInscripción https://docs.google.com/forms/d/e/1FAIpQLSfsabYG6JfnF9QlF-Y68vTF0X–gkAaUcvYPUYRE3OzdhjAng/viewform \n\n\n\nAcreditación: 12 horas con evaluación.Consultas: capacitacion@iesoc.edu.ar o historia@iesoc.edu.ar
URL:https://iesoc.edu.ar/evento/el-parque-de-la-independencia/
CATEGORIES:Curso
ATTACH;FMTTYPE=image/jpeg:https://iesoc.edu.ar/wp-content/uploads/2022/08/capacitacionParque.jpeg
END:VEVENT
END:VCALENDAR