BEGIN:VCALENDAR
VERSION:2.0
PRODID:-//IES 28 &ndash; Olga Cossettini - ECPv6.15.20//NONSGML v1.0//EN
CALSCALE:GREGORIAN
METHOD:PUBLISH
X-ORIGINAL-URL:https://iesoc.edu.ar
X-WR-CALDESC:Eventos para IES 28 &ndash; Olga Cossettini
REFRESH-INTERVAL;VALUE=DURATION:PT1H
X-Robots-Tag:noindex
X-PUBLISHED-TTL:PT1H
BEGIN:VTIMEZONE
TZID:America/Argentina/Buenos_Aires
BEGIN:STANDARD
TZOFFSETFROM:-0300
TZOFFSETTO:-0300
TZNAME:-03
DTSTART:20210101T000000
END:STANDARD
END:VTIMEZONE
BEGIN:VEVENT
DTSTART;TZID=America/Argentina/Buenos_Aires:20220905T080000
DTEND;TZID=America/Argentina/Buenos_Aires:20220909T170000
DTSTAMP:20260422T211809
CREATED:20250721T231550Z
LAST-MODIFIED:20250721T231552Z
UID:11366-1662364800-1662742800@iesoc.edu.ar
SUMMARY:Mirar\, descubrir y conocer. Educación patrimonial en el contexto de la ciudad y los museos
DESCRIPTION:Fechas de los encuentros sincrónicos: 5\, 7 y 9 de septiembre de 2022Modalidad: virtual \n\n\n\nInformes e inscripción: extensionesmrosario@gmail.com \n\n\n\nDestinatarios: Estudiantes\, egresados/as y docentes de la carrera de Historia. \n\n\n\nACTIVIDAD NO ARANCELADA. SE ENTREGAN CERTIFICADOS \n\n\n\nNúcleos problemáticos:Clase 1 – Lic. Gabriela Tradotti.Que entendemos por patrimonio?. El patrimonio de la ciudad como recurso. ¿Quéelementos reconocemos?. Construcción del patrimonio. Que es y que no espatrimonio. Identificación. Propuestas para su preservación y conservación en laciudad habitada.Clase 2 – Lic. Mercedes Murua.Que entendemos por educación patrimonial. El valor educativo del patrimonio. Elmuseo como centro de educación patrimonial. Las ciudades como escenarios deaprendizaje. Didáctica de los objetos. Análisis objetual. \n\n\n\nClase 3 – En diálogo con la Cons. Mirta Carreras.La ciudad como gran Museo al aire libre. La narrativa de los espacios urbanos.Estudios y análisis de ejemplos de pedagogía urbana.
URL:https://iesoc.edu.ar/evento/mirar-descubrir-y-conocer-educacion-patrimonial-en-el-contexto-de-la-ciudad-y-los-museos/
CATEGORIES:Curso
ATTACH;FMTTYPE=image/jpeg:https://iesoc.edu.ar/wp-content/uploads/2022/08/cursoMuseoHistoria.jpg
END:VEVENT
END:VCALENDAR