BEGIN:VCALENDAR
VERSION:2.0
PRODID:-//IES 28 &ndash; Olga Cossettini - ECPv6.15.20//NONSGML v1.0//EN
CALSCALE:GREGORIAN
METHOD:PUBLISH
X-ORIGINAL-URL:https://iesoc.edu.ar
X-WR-CALDESC:Eventos para IES 28 &ndash; Olga Cossettini
REFRESH-INTERVAL;VALUE=DURATION:PT1H
X-Robots-Tag:noindex
X-PUBLISHED-TTL:PT1H
BEGIN:VTIMEZONE
TZID:America/Argentina/Buenos_Aires
BEGIN:STANDARD
TZOFFSETFROM:-0300
TZOFFSETTO:-0300
TZNAME:-03
DTSTART:20220101T000000
END:STANDARD
END:VTIMEZONE
BEGIN:VEVENT
DTSTART;TZID=America/Argentina/Buenos_Aires:20230902T090000
DTEND;TZID=America/Argentina/Buenos_Aires:20230902T120000
DTSTAMP:20260422T040221
CREATED:20231106T010938Z
LAST-MODIFIED:20250731T233345Z
UID:10356-1693645200-1693656000@iesoc.edu.ar
SUMMARY:Anny Ocoró Loango en VV2023 (clase abierta)
DESCRIPTION:Te invitamos a la clase abierta (presencial)\, el próximo Sábado 2 de septiembre\, en el marco de nuestra Formación para docentes “Volvernos Visibles“. Esta vez\, tenemos el honor de recibir a Anny Ocoró Loango\, Doctora en Ciencias Sociales y Master en Ciencias Sociales con Orientación en Educación de la Facultad Latinoamericana de Ciencias Sociales (FLACSO – Argentina). \n\n\n\nAnny es investigadora del Consejo Nacional de Investigaciones Científicas y Técnicas (Conicet)\, y forma parte del equipo docente del Diploma y la Especialización en Currículum y Prácticas Escolares en Contexto (FLACSO – Argentina). Además\, se desempeña como docente de grado en la Universidad Nacional de Tres de Febrero. \n\n\n\nCon una experiencia sólida y profunda en el reconocimiento de la diversidad y la lucha contra el racismo\, Anny Ocoró Loango es una referente invaluable en el campo. Ha publicado varios artículos en revistas académicas\, enfocados en afrodescendientes y políticas educativas con perspectiva étnico-racial\, interseccional y de género. También es co-editora de tres libros sobre los mismos temas. \n\n\n\nNo te pierdas esta valiosa oportunidad de aprender y reflexionar sobre estos temas de vital importancia en nuestra sociedad. La charla se llevará a cabo en el I.E.S. N°28 “Olga Cossettini”. \n\n\n\nDetalles del Evento:Fecha: Sábado 2 de septiembreHora: 9:00 AMLugar: I.E.S. N°28 “Olga Cossettini”\,  Sarmiento 2902\, Rosario\, Santa Fe. \n\n\n\nLa participación es gratuita y abierta a todxs. ¡Esperamos verte el día del evento! \n\n\n\nINSCRIPCIÓN \n\n\n\nSobre “Volvernos visibles” – La intervención en las prácticas educativas desde una perspectiva afrodescendiente y antirracista. Segunda Cohorte.  Res. Min. 1348/22: \n\n\n\nVolvernos Visibles es una formación para docentes y estudiantes del último año de las carreras docentes de Rosario y alrededores\, dictada por dos docentes afroargentinxs. Profesora de Historia\, Mérida Doussou y profesor de Físico-Química\, Noel Vallejos brindan herramientas académicas\, curriculares y de la experiencia propia\, para abordar y erradicar la problemática del racismo en los ámbitos educativos en sus diversas variantes\, institucionales\, áulicas y del curriculum.
URL:https://iesoc.edu.ar/evento/anny-ocoro-loango-en-vv2023-clase-abierta/
LOCATION:Sede\, Sarmiento 2902\, Rosario\, Santa Fe\, S2001SBH\, Argentina
CATEGORIES:Clase abierta
ATTACH;FMTTYPE=image/png:https://iesoc.edu.ar/wp-content/uploads/2023/08/Anny-O.L.-en-Volvernos-Visibles.png
END:VEVENT
END:VCALENDAR