BEGIN:VCALENDAR
VERSION:2.0
PRODID:-//IES 28 &ndash; Olga Cossettini - ECPv6.15.20//NONSGML v1.0//EN
CALSCALE:GREGORIAN
METHOD:PUBLISH
X-WR-CALNAME:IES 28 &ndash; Olga Cossettini
X-ORIGINAL-URL:https://iesoc.edu.ar
X-WR-CALDESC:Eventos para IES 28 &ndash; Olga Cossettini
REFRESH-INTERVAL;VALUE=DURATION:PT1H
X-Robots-Tag:noindex
X-PUBLISHED-TTL:PT1H
BEGIN:VTIMEZONE
TZID:America/Argentina/Buenos_Aires
BEGIN:STANDARD
TZOFFSETFROM:-0300
TZOFFSETTO:-0300
TZNAME:-03
DTSTART:20220101T000000
END:STANDARD
END:VTIMEZONE
BEGIN:VEVENT
DTSTART;TZID=America/Argentina/Buenos_Aires:20230925T190000
DTEND;TZID=America/Argentina/Buenos_Aires:20230925T210000
DTSTAMP:20260422T023136
CREATED:20231106T010014Z
LAST-MODIFIED:20250730T230952Z
UID:10350-1695668400-1695675600@iesoc.edu.ar
SUMMARY:Acto de Colación de Grado de la Promoción 2022
DESCRIPTION:Tenemos el agrado de invitar al Acto de Colación de Grado de la Promoción 2022\, que tendrá lugar el 25 de septiembre de 2023\, a las 19:00 en el Salón de actos de la Escuela Normal Superior Nº 1 “Dr. Nicolás Avellaneda”(Pcial. 34).Entre Ríos 1192. \n\n\n\nVer programa
URL:https://iesoc.edu.ar/evento/acto-colacion-promocion-2022/
LOCATION:Anexo\, Entre Ríos 1192\, Rosario\, Santa Fe\, S2000CR\, Argentina
CATEGORIES:Evento
ATTACH;FMTTYPE=image/jpeg:https://iesoc.edu.ar/wp-content/uploads/2023/09/Acto_2023.jpeg
END:VEVENT
END:VCALENDAR