BEGIN:VCALENDAR
VERSION:2.0
PRODID:-//IES 28 &ndash; Olga Cossettini - ECPv6.15.20//NONSGML v1.0//EN
CALSCALE:GREGORIAN
METHOD:PUBLISH
X-WR-CALNAME:IES 28 &ndash; Olga Cossettini
X-ORIGINAL-URL:https://iesoc.edu.ar
X-WR-CALDESC:Eventos para IES 28 &ndash; Olga Cossettini
REFRESH-INTERVAL;VALUE=DURATION:PT1H
X-Robots-Tag:noindex
X-PUBLISHED-TTL:PT1H
BEGIN:VTIMEZONE
TZID:America/Argentina/Buenos_Aires
BEGIN:STANDARD
TZOFFSETFROM:-0300
TZOFFSETTO:-0300
TZNAME:-03
DTSTART:20230101T000000
END:STANDARD
END:VTIMEZONE
BEGIN:VEVENT
DTSTART;TZID=America/Argentina/Buenos_Aires:20241003T080000
DTEND;TZID=America/Argentina/Buenos_Aires:20241003T200000
DTSTAMP:20260421T060119
CREATED:20240618T225017Z
LAST-MODIFIED:20250822T160251Z
UID:10823-1727942400-1727985600@iesoc.edu.ar
SUMMARY:XXI Jornadas de Reflexión y Socialización del Trayecto de la Práctica
DESCRIPTION:XXI Jornada de reflexión y socialización del Trayecto de la Práctica\n\n\n\nReafirmar la dimensión política y colectiva de la práctica\n\n\n\nPrimera circular \n\n\n\nResolución Ministerial en trámite \n\n\n\nFecha: 3 de octubre de 2024 \n\n\n\nHorario: de 8:00 a 20:00 hs \n\n\n\nDestinatarios: Docentes de todos los niveles y modalidades\, estudiantes de carreras de Formación Docente\, entre otros. \n\n\n\nFundamentación \n\n\n\nA través del tiempo\, el campo de la práctica se ha ido transformando y consolidando en el entramado sistemático que conforma junto con el campo específico y general. Los diseños curriculares de las carreras de formación docente han ido concediendo al trayecto de la práctica un lugar clave a través de su estructuración como talleres presentes a lo largo de toda la carrera. \n\n\n\nEn esta oportunidad\, la Jornada pretende reafirmar el sentido político del acto de enseñar. Como sostenía Freire (1990)\, “ya se efectúe de modo ingenuo o astuto\, separar la educación de la política no sólo resulta artificial sino peligroso. Pensar en la educación independiente del poder que la constituye\, divorciada del mundo real en que se forja\, nos lleva o bien a reducirla a un mundo de valores e ideales abstractos (…)\, o a convertirla en un repertorio de técnicas de comportamiento\, o a percibirla como un trampolín para modificar la realidad”. En este sentido\, siguiendo los lineamientos del pedagogo brasileño\, es imposible concebir el ejercicio de la práctica docente sin entenderla desde una perspectiva política y con su consecuente impacto social\, porque ya sea por acción u omisión\, la transmisión cultural nunca será neutra. \n\n\n\nPara trabajar estos fundamentos durante la jornada\, se prevén espacios bajo la modalidad de Paneles\, Conferencias\, Mesas de socialización de experiencias y Talleres\, destinados a docentes de todos los niveles y modalidades y estudiantes de carreras de Formación Docente. \n\n\n\nPropósitos \n\n\n\n\nReafirmar el carácter político y colectivo de la práctica docente.\n\n\n\nCompartir experiencias formativas del campo de la práctica.\n\n\n\nReflexionar acerca de los escenarios educativos en la actualidad: proyecciones y nuevos desafíos.\n\n\n\n\nEjes temáticos \n\n\n\nEje 1: Transformaciones y desafíos de los escenarios de enseñanza: normativas\, sujetos y contextos. \n\n\n\nEje 2: Práctica de enseñanza en contextos educativos diversos \n\n\n\nEje 3: Propuestas\, dispositivos y recursos innovadores para las prácticas de enseñanza. \n\n\n\nAgenda \n\n\n\n8:00 hs – Acreditación \n\n\n\n8:30 hs – Apertura de la Jornada. Presentación a cargo de autoridades institucionales: \n\n\n\n-Rectora Trad. Bárbara Nale \n\n\n\n-Vice rectora Prof. Pamela Dahlquist \n\n\n\n-Vice rector Mg. Juan Matías Lobos \n\n\n\n-Jefa del Trayecto de la Práctica: Prof. Julia Osella \n\n\n\n9:00 hs – Panel Central: “La práctica docente como práctica política y social” \n\n\n\n10:00 hs – Mesas de socialización de experiencias y trabajos: \n\n\n\nEje 1: Transformaciones y desafíos de los escenarios de enseñanza: normativas\, sujetos y contextos. \n\n\n\nEje 2: Práctica de enseñanza en contextos educativos diversos \n\n\n\nEje 3: Propuestas\, dispositivos y recursos innovadores para las prácticas de enseñanza. \n\n\n\n12:00 hs – Panel: “Prácticas docentes que garantizan derechos” \n\n\n\n\nPráctica docente en Contextos de privación de la libertad\n\n\n\nPráctica docente en Educación Permanente para Jóvenes y Adultos\n\n\n\nPráctica docente en la modalidad Intercultural Bilingüe\n\n\n\nPráctica docente en la modalidad Hospitalaria\n\n\n\nPráctica docente en Escuela de gestión social\n\n\n\nPráctica docente en la modalidad Rural\n\n\n\n\n13:00 hs – Recreo \n\n\n\n14:00 hs – Mesas de socialización de experiencias y trabajos: \n\n\n\nEje 1: Transformaciones y desafíos de los escenarios de enseñanza: normativas\, sujetos y contextos. \n\n\n\nEje 2: Práctica de enseñanza en contextos educativos diversos \n\n\n\nEje 3: Propuestas\, dispositivos y recursos innovadores para las prácticas de enseñanza. \n\n\n\n15:30 hs – Encuentro de coformadores \n\n\n\n15:30 hs – Talleres \n\n\n\n17:00 hs – Cine debate \n\n\n\n19:00 hs – Cierre de la Jornada\, evaluación y entrega de certificados \n\n\n\nModalidades para la participación \n\n\n\nSe podrá participar en carácter de: \n\n\n\n\nasistente o\n\n\n\nexpositor/a.\n\n\n\n\nTanto asistentes como expositores/as deberán inscribirse (ver formularios de inscripción más abajo). \n\n\n\nPor consultas comunicarse al siguiente correo: \n\n\n\njornadadepractica@iesoc.edu.ar \n\n\n\nInscripción como Asistente: \n\n\n\n\nhttps://forms.gle/GjRrTMDm5kfXbFbT9\n\n\n\n\nFecha límite de inscripción como Asistente hasta el 26 de septiembre. \n\n\n\nInscripción como Expositor/a: \n\n\n\n\nhttps://forms.gle/zA2r448WNk2vo6f37\n\n\n\n\nFecha límite de inscripción como expositor/es y entrega de resúmenes hasta el martes 12 de septiembre. \n\n\n\nConsideraciones especiales para la entrega de resúmenes: \n\n\n\nPara la entrega de resúmenes\, en caso de que la exposición esté a cargo de un equipo conformado por más de un/a integrante\, se envía un solo formulario con los nombres de todos/as. Se conformarán mesas socialización de experiencias/exposiciones según los ejes de la jornada. \n\n\n\nEl resumen debe responder a uno de los ejes de la Jornada. Cada propuesta podrá tener un máximo de tres expositores/as. Las exposiciones serán de 15 minutos (máximo). \n\n\n\nPautas para la entrega del resumen escrito correspondiente a la exposición Los resúmenes podrán tener una extensión de hasta 500 palabras (máximo) y deberán adjuntarse en formato pdf\, en diseño de página tamaño A4\, con fuente Arial 11\, interlineado de 1.5 y márgenes superior e izquierdo de 3 cm\, inferior y derecho de 2\,5 cm. \n\n\n\nDeberán estar encabezados por: \n\n\n\n\na) Título de la exposición trabajo: centrado\, negrita\, mayúscula inicial\, fuente Arial 11.\n\n\n\nb) Nombre y apellido del autor/es y DNI: alineación derecha\, fuente Arial 11.\n\n\n\nc) Institución a la que pertenece: alineación derecha\, fuente Arial 11.\n\n\n\nd) Dirección de correo electrónico del/a referente de la exposición: alineación derecha\, fuente Arial 11.\n\n\n\ne) Eje organizador: alineación derecha\, fuente Arial 10.\n\n\n\nf) 3 a 5 palabras clave: alineación derecha\, fuente Arial 10.\n\n\n\n\nLas citas deben seguir lo especificado en las normas APA. \n\n\n\nAranceles \n\n\n\n-Docentes y Estudiantes del IES 28 (asistentes o expositores): sin cargo. \n\n\n\n-Asistentes de otras instituciones: $1000 \n\n\n\n-Expositores/as de otras instituciones: $3000 \n\n\n\nMODALIDAD DE PAGO \n\n\n\n-Por transferencia bancaria a: \n\n\n\nCBU: 3300004420040069873087 \n\n\n\nAlias: COOPERADORAIES28 \n\n\n\nNombre de la cuenta: ASOC. COOP. INST. DE EDUC.N° 28 \n\n\n\nLos comprobantes de transferencias se adjuntan en el formulario de inscripción. \n\n\n\n-También se puede abonar en efectivo el día de la jornada. \n\n\n\nPor consultas generales escribir al siguiente correo: \n\n\n\njornadadepractica@iesoc.edu.ar
URL:https://iesoc.edu.ar/evento/xxi-jornadas-de-reflexion-y-socializacion-del-trayecto-de-la-practica/
CATEGORIES:Jornada
ATTACH;FMTTYPE=image/jpeg:https://iesoc.edu.ar/wp-content/uploads/2024/06/XXI-practica.jpg
END:VEVENT
BEGIN:VEVENT
DTSTART;TZID=America/Argentina/Buenos_Aires:20241018T080000
DTEND;TZID=America/Argentina/Buenos_Aires:20241018T170000
DTSTAMP:20260421T060119
CREATED:20240618T224057Z
LAST-MODIFIED:20250822T160749Z
UID:10820-1729238400-1729270800@iesoc.edu.ar
SUMMARY:II Jornada de Diversidad Cultural y Lingüística: “Educación y Bibliodiversidad”
DESCRIPTION:Fundamentación \n\n\n\nInvitamos a participar en la II Jornada de Diversidad cultural y lingüística que se realizará en el Instituto de Educación Superior N.º 28 Olga Cossettini el viernes 18 de octubre de 2024. \n\n\n\nEn octubre de 2023\, en conmemoración de los 40 años de la recuperación de la democracia y en el marco de la convocatoria “Formando docentes\, ampliando la participación estudiantil”\, propuesta del INFOD que propiciaba proyectos de intervención educativa con participación de docentes y estudiantes\, el Consejo Directivo del IES N.º 28 Olga Cossettini aprobó la realización de la Jornada de Diversidad cultural y lingüística como evento anual. \n\n\n\nLa I Jornada tuvo muy buena acogida\, tanto en propuestas académicas ―alrededor de 80 expositores― como en participación estudiantil\, ya que gran cantidad de estudiantes se sumó a actividades organizativas\, colaboró y asistió a las conferencias y mesas simultáneas. Cabe destacar que la publicación digital de las Actas\, que recientemente se difundió desde el Departamento de Investigación y Publicaciones\, extiende el alcance del evento a la comunidad educativa y aumenta la visibilidad de la intensa labor académica que caracteriza a nuestro Instituto.Con el fin de dar la necesaria continuidad al evento y con la expectativa de mejorar a partir de lo aprendido en esa primera experiencia\, ya estamos planificando la organización de la II Jornada\, con fecha el viernes 18 de octubre.Son tres los aspectos que animan la propuesta este año: \n\n\n\n\nEn cuanto a nuestra pertenencia académica\, fortalecer el diálogo con estudiantes y docentes de las otras carreras que se dictan en el Instituto y generar espacios de participación en actividades de circulación del conocimiento.\n\n\n\nEn cuanto al tema de la Jornada: propiciar la reflexión acerca del libro y el estado de la industria editorial: políticas editoriales\, políticas de promoción de la lectura y de acceso al libro\, la representación de la diversidad cultural y lingüística en los materiales impresos y digitales\, las condiciones en que accedemos a materiales traducidos\, derechos de autor\, accesibilidad a la producción y el consumo de materiales didácticos\, rol de las bibliotecas\, etc.\n\n\n\nBrindar a estudiantes\, docentes e investigadores la posibilidad de contar con un antecedente académico especializado de nivel superior que enriquezca su currículum.\n\n\n\n\nEjes temáticos \n\n\n\n\nBibliodiversidad.\n\n\n\nSoberanía editorial.\n\n\n\nProblemática de la edición de material didáctico/de estudio. Ediciones de libros en lenguas originarias.\n\n\n\nProblemática de la intraducción y la extraducción.\n\n\n\nEdición digital y circulación del conocimiento académico.\n\n\n\nMarco legal de la industria editorial.\n\n\n\nEditoriales locales\, Mercado editorial y proyectos culturales ligados a la edición (ediciones cartoneras y artesanales en general\, ediciones educativas).\n\n\n\n\nObjetivos \n\n\n\n\nConvocar especialistas en edición\, autores\, editores e investigadores.\n\n\n\nDebatir sobre la necesidad y la relevancia de fomentar que todos los espacios y todas las cátedras del sistema educativo reflexionen acerca de la circulación de material impreso y digital.\n\n\n\nVisibilizar los proyectos culturales relativos a la edición de libros en Rosario.\n\n\n\nPromover la reflexión acerca de las políticas de acceso al libro impreso o digital.\n\n\n\nConocer el estado actual de las políticas de promoción de la lectura.\n\n\n\nVisibilizar la labor editorial orientada al reconocimiento de la diversidad lingüística.\n\n\n\n\nFicha de inscripción para expositores/as \n\n\n\nFicha de inscripción asistentes \n\n\n\nCronograma \n\n\n\nDifusión de la 2.a circular: junio de 2024.Recepción de resúmenes: 20 de septiembre de 2024.Comunicación de aceptación de propuestas: del 20 al 30 de septiembre de 2024.Publicación del programa: 5 de octubre de 2024. \n\n\n\nJornada: 18 de octubre de 2024.Recepción de trabajos completos para la publicación: 20 de diciembre de 2024. \n\n\n\nContacto: diversidadculturaljornada@gmail.com \n\n\n\nARANCELESEstudiantes del IES N° 28: sin costo \n\n\n\nHasta el 31 de agostoExpositores/as del IES N° 28: 2500Expositores/as externos/as al IES N° 28: 3500Asistentes: 1000 \n\n\n\nDespués del 31 de agostoExpositores/as del IES N° 28: 4000Expositores/as externos/as al IES N° 28: 5000Asistentes: 1500 \n\n\n\nMODALIDAD DE PAGOPor transferencia bancaria a:CBU: 3300004420040069873087Alias: COOPERADORAIES28 \n\n\n\nNombre de la cuenta: ASOC. COOP. INST. DE EDUC.N° 28 \n\n\n\nUna vez realizada la transferencia se ha de enviar el comprobante a cooperadora@iesoc.edu.ar y diversidadculturaljornada@gmail.com\, indicando los datos personales (apellido\, nombre y Nº de documento). \n\n\n\nTambién se puede abonar en efectivo el día de la jornada.
URL:https://iesoc.edu.ar/evento/ii-jornada-de-diversidad-cultural-y-linguistica-educacion-y-bibliodiversidad/
LOCATION:Sede\, Sarmiento 2902\, Rosario\, Santa Fe\, S2001SBH\, Argentina
CATEGORIES:Jornada
ATTACH;FMTTYPE=image/jpeg:https://iesoc.edu.ar/wp-content/uploads/2024/04/II_Jornada_Diversidad_Cultural_Linguistica.jpeg
END:VEVENT
END:VCALENDAR